BEGIN:VCALENDAR
VERSION:2.0
PRODID:-//eventon.com NONSGML v1.0//EN
CALSCALE:GREGORIAN
METHOD:PUBLISH
BEGIN:VEVENT
UID:69eb3b9ab8fdc
DTSTAMP:20260424T094458Z
DTSTART:20271008T150000Z
DTEND:20271009T150000Z
LOCATION:Ecole de Kinésiologie AS Chemin de la praz 23\,  1424 Champagne\,  Suisse
SUMMARY:Kiné KE 2 Le système squelettique
DESCRIPTION:KE 2  Le système squelettique Le système squelettique\,  com
 posé des os\,  cartilages\,  tendons et ligaments\,  fournit un support po
 ur le corps et des sites d’attachements pour les organes. Il protège ég
 alement les organes délicats. Techniques d’équilibration &#8211; Le sub
 conscient &#8211; Les Sentiments &#8211; Travail d’un objectif.\nhttps://
 www.institut-kinesiologie.ch/cours/kine-ke-2-le-systeme-squelettique/
URL:https://www.institut-kinesiologie.ch/cours/kine-ke-2-le-systeme-squelettique/
END:VEVENT
END:VCALENDAR