BEGIN:VCALENDAR
VERSION:2.0
PRODID:-//eventon.com NONSGML v1.0//EN
CALSCALE:GREGORIAN
METHOD:PUBLISH
BEGIN:VEVENT
UID:69e6c1cf53635
DTSTAMP:20260421T001615Z
DTSTART:20271209T180000Z
DTEND:20271209T210000Z
LOCATION:Ecole de Kinésiologie AS Chemin de la praz 23\,  1424 Champagne\,  Suisse
SUMMARY:Atelier pratique - Jeudi
DESCRIPTION:Atelier pratique &#8211; Supervision\nhttps://www.institut-kine
 siologie.ch/cours/atelier-pratique-jeudi-14/
URL:https://www.institut-kinesiologie.ch/cours/atelier-pratique-jeudi-14/
END:VEVENT
END:VCALENDAR