BEGIN:VCALENDAR
VERSION:2.0
PRODID:-//eventon.com NONSGML v1.0//EN
CALSCALE:GREGORIAN
METHOD:PUBLISH
BEGIN:VEVENT
UID:69e5db514ca6b
DTSTAMP:20260420T075249Z
DTSTART:20270422T170000Z
DTEND:20270422T200000Z
LOCATION:Ecole de Kinésiologie AS Chemin de la praz 23\,  1424 Champagne\,  Suisse
SUMMARY:Atelier pratique - Jeudi
DESCRIPTION:Atelier pratique &#8211; Supervision\nhttps://www.institut-kine
 siologie.ch/cours/atelier-pratique-jeudi-2/
URL:https://www.institut-kinesiologie.ch/cours/atelier-pratique-jeudi-2/
END:VEVENT
END:VCALENDAR