BEGIN:VCALENDAR
VERSION:2.0
PRODID:-//eventon.com NONSGML v1.0//EN
CALSCALE:GREGORIAN
METHOD:PUBLISH
BEGIN:VEVENT
UID:69e5f194b22c9
DTSTAMP:20260420T092748Z
DTSTART:20271102T170000Z
DTEND:20271102T210000Z
LOCATION:Ecole de Kinésiologie AS Chemin de la praz 23\,  1424 Champagne\,  Suisse
SUMMARY:Atelier pratique - Mardi
DESCRIPTION:Atelier pratique &#8211; Supervision\nhttps://www.institut-kine
 siologie.ch/cours/atelier-pratique-mardi-14/
URL:https://www.institut-kinesiologie.ch/cours/atelier-pratique-mardi-14/
END:VEVENT
END:VCALENDAR