BEGIN:VCALENDAR
VERSION:2.0
PRODID:-//eventon.com NONSGML v1.0//EN
CALSCALE:GREGORIAN
METHOD:PUBLISH
BEGIN:VEVENT
UID:69e6cbe479357
DTSTAMP:20260421T005916Z
DTSTART:20270907T160000Z
DTEND:20270907T200000Z
LOCATION:Ecole de Kinésiologie AS Chemin de la praz 23\,  1424 Champagne\,  Suisse
SUMMARY:Atelier pratique - Mardi
DESCRIPTION:Atelier pratique &#8211; Supervision\nhttps://www.institut-kine
 siologie.ch/cours/atelier-pratique-mardi-13/
URL:https://www.institut-kinesiologie.ch/cours/atelier-pratique-mardi-13/
END:VEVENT
END:VCALENDAR