BEGIN:VCALENDAR
VERSION:2.0
PRODID:-//eventon.com NONSGML v1.0//EN
CALSCALE:GREGORIAN
METHOD:PUBLISH
BEGIN:VEVENT
UID:69e5d936028d7
DTSTAMP:20260420T074350Z
DTSTART:20270706T160000Z
DTEND:20270706T200000Z
LOCATION:Ecole de Kinésiologie AS Chemin de la praz 23\,  1424 Champagne\,  Suisse
SUMMARY:Atelier pratique - Mardi
DESCRIPTION:Atelier pratique &#8211; Supervision\nhttps://www.institut-kine
 siologie.ch/cours/atelier-pratique-mardi-12/
URL:https://www.institut-kinesiologie.ch/cours/atelier-pratique-mardi-12/
END:VEVENT
END:VCALENDAR