BEGIN:VCALENDAR
VERSION:2.0
PRODID:-//eventon.com NONSGML v1.0//EN
CALSCALE:GREGORIAN
METHOD:PUBLISH
BEGIN:VEVENT
UID:69e5797264196
DTSTAMP:20260420T005514Z
DTSTART:20270813T150000Z
DTEND:20270814T150000Z
LOCATION:Ecole de Kinésiologie AS Chemin de la praz 23\,  1424 Champagne\,  Suisse
SUMMARY:Kiné KE 7 Les sentiments positifs altérés
DESCRIPTION:KE 7  Les sentiments positifs altérés Nouvel objectif fondam
 ental &#8211; la différence entre les sentiments négatifs et les sentimen
 ts positifs altérés avec le temps. Méthode de travail. Approfondissement
  du système nerveux &#8211; Techniques d’équilibration.\nhttps://www.in
 stitut-kinesiologie.ch/cours/kine-ke-7-les-sentiments-positifs-alteres-3/
URL:https://www.institut-kinesiologie.ch/cours/kine-ke-7-les-sentiments-positifs-alteres-3/
END:VEVENT
END:VCALENDAR