BEGIN:VCALENDAR
VERSION:2.0
PRODID:-//eventon.com NONSGML v1.0//EN
CALSCALE:GREGORIAN
METHOD:PUBLISH
BEGIN:VEVENT
UID:69eb3542a3079
DTSTAMP:20260424T091754Z
DTSTART:20270820T150000Z
DTEND:20270821T150000Z
LOCATION:Ecole de Kinésiologie AS Chemin de la praz 23\,  1424 Champagne\,  Suisse
SUMMARY:TFH T6
DESCRIPTION:TFH – Cours T6 Réactivité – Points Luo – loi midi/minui
 t – Techniques additionnelles – Techniques d’acupressure\,  point par
  point\,  tapotement du méridien – révision.\nhttps://www.institut-kine
 siologie.ch/cours/tfh-t6-2/
URL:https://www.institut-kinesiologie.ch/cours/tfh-t6-2/
END:VEVENT
END:VCALENDAR