BEGIN:VCALENDAR
VERSION:2.0
PRODID:-//eventon.com NONSGML v1.0//EN
CALSCALE:GREGORIAN
METHOD:PUBLISH
BEGIN:VEVENT
UID:69eb3466b9358
DTSTAMP:20260424T091414Z
DTSTART:20270625T150000Z
DTEND:20270626T150000Z
LOCATION:Ecole de Kinésiologie AS Chemin de la praz 23\,  1424 Champagne\,  Suisse
SUMMARY:TFH T5
DESCRIPTION:TFH – Cours T5 Equilibration selon la roue – Equilibration 
 5 éléments – 14 muscles secondaires – Equilibration nuque\,  dos\,  h
 anche\,  genoux – Pouls – Etablir un objectif – Techniques additionne
 lles\nhttps://www.institut-kinesiologie.ch/cours/tfh-t5-2/
URL:https://www.institut-kinesiologie.ch/cours/tfh-t5-2/
END:VEVENT
END:VCALENDAR