BEGIN:VCALENDAR
VERSION:2.0
PRODID:-//eventon.com NONSGML v1.0//EN
CALSCALE:GREGORIAN
METHOD:PUBLISH
BEGIN:VEVENT
UID:69eb375e815cb
DTSTAMP:20260424T092654Z
DTSTART:20270416T150000Z
DTEND:20270417T150000Z
LOCATION:Ecole de KinÃ©siologie AS Chemin de la praz 23\,  1424 Champagne\,  Suisse
SUMMARY:TFH T3
DESCRIPTION:TFH â€“ Cours T3 Correction musculaire golgi\,  tests de dÃ©mar
 che\,  points dâ€™acupressure\,  points dâ€™alarme\,  massage des mÃ©ridien
 s\,  Equilibration horaire\,  Huit tibÃ©tain\,  LibÃ©ration de stress passÃ
 ©e et future\,  Equilibration couleurs et sons â€“ 14 muscles secondaires â
 €“ Cross-Crowl approfondi.\nhttps://www.institut-kinesiologie.ch/cours/tfh-
 t3-2/
URL:https://www.institut-kinesiologie.ch/cours/tfh-t3-2/
END:VEVENT
END:VCALENDAR