BEGIN:VCALENDAR
VERSION:2.0
PRODID:-//eventon.com NONSGML v1.0//EN
CALSCALE:GREGORIAN
METHOD:PUBLISH
BEGIN:VEVENT
UID:69eb34efc2c85
DTSTAMP:20260424T091631Z
DTSTART:20270226T160000Z
DTEND:20270227T160000Z
LOCATION:Ecole de Kinésiologie AS Chemin de la praz 23\,  1424 Champagne\,  Suisse
SUMMARY:TFH Niveau 1 à 4 (cours T1 à T6)
DESCRIPTION:TFH\,  La santé par le toucher niveau 1 à 4 (cours T1 à T6).
  Apprentissage du Test – Les 42 muscles – Toutes les corrections – Te
 chniques du toucher – Méthode de travail – Outils à utiliser à la ma
 ison pour soi-même. Le TFH a 4 niveaux\,  répartis ici en[..]\nhttps://ww
 w.institut-kinesiologie.ch/cours/tfh-cornaline2027/
URL:https://www.institut-kinesiologie.ch/cours/tfh-cornaline2027/
END:VEVENT
END:VCALENDAR