BEGIN:VCALENDAR
VERSION:2.0
PRODID:-//eventon.com NONSGML v1.0//EN
CALSCALE:GREGORIAN
METHOD:PUBLISH
BEGIN:VEVENT
UID:69e6ef6eb725c
DTSTAMP:20260421T033054Z
DTSTART:20261110T170000Z
DTEND:20261110T210000Z
LOCATION:Ecole de Kinésiologie AS Chemin de la praz 23\,  1424 Champagne\,  Suisse
SUMMARY:Atelier pratique - Mardi
DESCRIPTION:Atelier pratique &#8211; Supervision\nhttps://www.institut-kine
 siologie.ch/cours/atelier-pratique-mardi-11/
URL:https://www.institut-kinesiologie.ch/cours/atelier-pratique-mardi-11/
END:VEVENT
END:VCALENDAR